{"text_format":"3","workbook":"xlsx","n_sheets":1,"sheets":["Congressional-Semi-Monthly CF&R"],"not_rendered":{"images":1,"external_links":1},"read":"whole","date_system":"1900"}

{"sheet":"Congressional-Semi-Monthly CF&R","index":0,"n_rows":99,"n_cols":28,"rows_kept":99,"merged":[[2,1,2,2],[3,1,4,27],[5,1,5,2],[6,1,6,2],[7,1,7,2],[8,1,8,2],[9,1,9,2],[10,1,10,2],[11,1,11,2],[12,1,12,2],[13,1,14,27],[15,1,15,2],[16,1,16,2],[17,1,22,1],[23,1,28,1],[29,1,30,27],[31,1,31,2],[32,1,32,2],[33,1,33,2],[34,1,34,2],[35,1,35,2],[36,1,36,2],[37,1,37,2],[38,1,38,2],[39,1,40,27],[41,1,41,2],[42,1,42,2],[43,1,43,2],[44,1,44,2],[45,1,45,2],[46,1,46,2],[47,1,47,2],[48,1,48,2],[49,1,50,27],[51,1,51,2],[52,1,52,2],[53,1,53,2],[54,1,54,2],[55,1,55,2],[56,1,56,2],[57,1,57,2],[58,1,58,2],[59,1,60,27],[61,1,62,1],[63,1,67,1],[68,1,72,1],[73,1,74,27],[75,1,76,1],[77,1,81,1],[82,1,86,1],[89,1,89,9]]}
[]
[]
[null,{"$f":"'[1]Congressional Semi-Monthly Repo'!$A$4","v":"This report is current as of August 5, 2023 "}]
[null,"All Credible Fear Cases - Showing number of cases received and number of cases completed by outcome per semi-monthly period (1st - 15th and 16th - end of month)1"]
[]
[null,"From",null,{"$f":"'[1]Congressional Semi-Monthly Repo'!B7","v":"2022-07-16"},{"$f":"'[1]Congressional Semi-Monthly Repo'!C7","v":"2022-08-01"},{"$f":"'[1]Congressional Semi-Monthly Repo'!D7","v":"2022-08-16"},{"$f":"'[1]Congressional Semi-Monthly Repo'!E7","v":"2022-09-01"},{"$f":"'[1]Congressional Semi-Monthly Repo'!F7","v":"2022-09-16"},{"$f":"'[1]Congressional Semi-Monthly Repo'!G7","v":"2022-10-01"},{"$f":"'[1]Congressional Semi-Monthly Repo'!H7","v":"2022-10-16"},{"$f":"'[1]Congressional Semi-Monthly Repo'!I7","v":"2022-11-01"},{"$f":"'[1]Congressional Semi-Monthly Repo'!J7","v":"2022-11-16"},{"$f":"'[1]Congressional Semi-Monthly Repo'!K7","v":"2022-12-01"},{"$f":"'[1]Congressional Semi-Monthly Repo'!L7","v":"2022-12-16"},{"$f":"'[1]Congressional Semi-Monthly Repo'!M7","v":"2023-01-01"},{"$f":"'[1]Congressional Semi-Monthly Repo'!N7","v":"2023-01-16"},{"$f":"'[1]Congressional Semi-Monthly Repo'!O7","v":"2023-02-01"},{"$f":"'[1]Congressional Semi-Monthly Repo'!P7","v":"2023-02-16"},{"$f":"'[1]Congressional Semi-Monthly Repo'!Q7","v":"2023-03-01"},{"$f":"'[1]Congressional Semi-Monthly Repo'!R7","v":"2023-03-16"},{"$f":"'[1]Congressional Semi-Monthly Repo'!S7","v":"2023-04-01"},{"$f":"'[1]Congressional Semi-Monthly Repo'!T7","v":"2023-04-16"},{"$f":"'[1]Congressional Semi-Monthly Repo'!U7","v":"2023-05-01"},{"$f":"'[1]Congressional Semi-Monthly Repo'!V7","v":"2023-05-16"},{"$f":"'[1]Congressional Semi-Monthly Repo'!W7","v":"2023-06-01"},{"$f":"'[1]Congressional Semi-Monthly Repo'!X7","v":"2023-06-16"},{"$f":"'[1]Congressional Semi-Monthly Repo'!Y7","v":"2023-07-01"},{"$f":"'[1]Congressional Semi-Monthly Repo'!Z7","v":"2023-07-16"}]
[null,"To",null,{"$f":"'[1]Congressional Semi-Monthly Repo'!B8","v":"2022-07-31"},{"$f":"'[1]Congressional Semi-Monthly Repo'!C8","v":"2022-08-15"},{"$f":"'[1]Congressional Semi-Monthly Repo'!D8","v":"2022-08-31"},{"$f":"'[1]Congressional Semi-Monthly Repo'!E8","v":"2022-09-15"},{"$f":"'[1]Congressional Semi-Monthly Repo'!F8","v":"2022-09-30"},{"$f":"'[1]Congressional Semi-Monthly Repo'!G8","v":"2022-10-15"},{"$f":"'[1]Congressional Semi-Monthly Repo'!H8","v":"2022-10-31"},{"$f":"'[1]Congressional Semi-Monthly Repo'!I8","v":"2022-11-15"},{"$f":"'[1]Congressional Semi-Monthly Repo'!J8","v":"2022-11-30"},{"$f":"'[1]Congressional Semi-Monthly Repo'!K8","v":"2022-12-15"},{"$f":"'[1]Congressional Semi-Monthly Repo'!L8","v":"2022-12-31"},{"$f":"'[1]Congressional Semi-Monthly Repo'!M8","v":"2023-01-15"},{"$f":"'[1]Congressional Semi-Monthly Repo'!N8","v":"2023-01-31"},{"$f":"'[1]Congressional Semi-Monthly Repo'!O8","v":"2023-02-15"},{"$f":"'[1]Congressional Semi-Monthly Repo'!P8","v":"2023-02-28"},{"$f":"'[1]Congressional Semi-Monthly Repo'!Q8","v":"2023-03-15"},{"$f":"'[1]Congressional Semi-Monthly Repo'!R8","v":"2023-03-31"},{"$f":"'[1]Congressional Semi-Monthly Repo'!S8","v":"2023-04-15"},{"$f":"'[1]Congressional Semi-Monthly Repo'!T8","v":"2023-04-30"},{"$f":"'[1]Congressional Semi-Monthly Repo'!U8","v":"2023-05-15"},{"$f":"'[1]Congressional Semi-Monthly Repo'!V8","v":"2023-05-31"},{"$f":"'[1]Congressional Semi-Monthly Repo'!W8","v":"2023-06-15"},{"$f":"'[1]Congressional Semi-Monthly Repo'!X8","v":"2023-06-30"},{"$f":"'[1]Congressional Semi-Monthly Repo'!Y8","v":"2023-07-15"},{"$f":"'[1]Congressional Semi-Monthly Repo'!$Z$8","v":"2023-07-31"}]
[null,"Case Receipts",null,{"$f":"'[1]Congressional Semi-Monthly Repo'!B9","v":{"v":3199,"d":"3,199"}},{"$f":"'[1]Congressional Semi-Monthly Repo'!C9","v":{"v":3511,"d":"3,511"}},{"$f":"'[1]Congressional Semi-Monthly Repo'!D9","v":{"v":4024,"d":"4,024"}},{"$f":"'[1]Congressional Semi-Monthly Repo'!E9","v":{"v":3426,"d":"3,426"}},{"$f":"'[1]Congressional Semi-Monthly Repo'!F9","v":{"v":3808,"d":"3,808"}},{"$f":"'[1]Congressional Semi-Monthly Repo'!G9","v":{"v":4481,"d":"4,481"}},{"$f":"'[1]Congressional Semi-Monthly Repo'!H9","v":{"v":5011,"d":"5,011"}},{"$f":"'[1]Congressional Semi-Monthly Repo'!I9","v":{"v":4154,"d":"4,154"}},{"$f":"'[1]Congressional Semi-Monthly Repo'!J9","v":{"v":3182,"d":"3,182"}},{"$f":"'[1]Congressional Semi-Monthly Repo'!K9","v":{"v":2612,"d":"2,612"}},{"$f":"'[1]Congressional Semi-Monthly Repo'!L9","v":{"v":2388,"d":"2,388"}},{"$f":"'[1]Congressional Semi-Monthly Repo'!M9","v":{"v":3923,"d":"3,923"}},{"$f":"'[1]Congressional Semi-Monthly Repo'!N9","v":{"v":6877,"d":"6,877"}},{"$f":"'[1]Congressional Semi-Monthly Repo'!O9","v":{"v":6298,"d":"6,298"}},{"$f":"'[1]Congressional Semi-Monthly Repo'!P9","v":{"v":3865,"d":"3,865"}},{"$f":"'[1]Congressional Semi-Monthly Repo'!Q9","v":{"v":4828,"d":"4,828"}},{"$f":"'[1]Congressional Semi-Monthly Repo'!R9","v":{"v":4965,"d":"4,965"}},{"$f":"'[1]Congressional Semi-Monthly Repo'!S9","v":{"v":3832,"d":"3,832"}},{"$f":"'[1]Congressional Semi-Monthly Repo'!T9","v":{"v":3686,"d":"3,686"}},{"$f":"'[1]Congressional Semi-Monthly Repo'!U9","v":{"v":5886,"d":"5,886"}},{"$f":"'[1]Congressional Semi-Monthly Repo'!V9","v":{"v":12287,"d":"12,287"}},{"$f":"'[1]Congressional Semi-Monthly Repo'!W9","v":{"v":7940,"d":"7,940"}},{"$f":"'[1]Congressional Semi-Monthly Repo'!X9","v":{"v":9245,"d":"9,245"}},{"$f":"'[1]Congressional Semi-Monthly Repo'!Y9","v":{"v":7944,"d":"7,944"}},{"$f":"'[1]Congressional Semi-Monthly Repo'!Z9","v":{"v":7745,"d":"7,745"}}]
[null,"All Decisions",null,{"$f":"'[1]Congressional Semi-Monthly Repo'!B10","v":{"v":2900,"d":"2,900"}},{"$f":"'[1]Congressional Semi-Monthly Repo'!C10","v":{"v":2709,"d":"2,709"}},{"$f":"'[1]Congressional Semi-Monthly Repo'!D10","v":{"v":2812,"d":"2,812"}},{"$f":"'[1]Congressional Semi-Monthly Repo'!E10","v":{"v":3273,"d":"3,273"}},{"$f":"'[1]Congressional Semi-Monthly Repo'!F10","v":{"v":3033,"d":"3,033"}},{"$f":"'[1]Congressional Semi-Monthly Repo'!G10","v":{"v":2296,"d":"2,296"}},{"$f":"'[1]Congressional Semi-Monthly Repo'!H10","v":{"v":3208,"d":"3,208"}},{"$f":"'[1]Congressional Semi-Monthly Repo'!I10","v":{"v":4540,"d":"4,540"}},{"$f":"'[1]Congressional Semi-Monthly Repo'!J10","v":{"v":3431,"d":"3,431"}},{"$f":"'[1]Congressional Semi-Monthly Repo'!K10","v":{"v":4620,"d":"4,620"}},{"$f":"'[1]Congressional Semi-Monthly Repo'!L10","v":{"v":3140,"d":"3,140"}},{"$f":"'[1]Congressional Semi-Monthly Repo'!M10","v":{"v":2541,"d":"2,541"}},{"$f":"'[1]Congressional Semi-Monthly Repo'!N10","v":{"v":4128,"d":"4,128"}},{"$f":"'[1]Congressional Semi-Monthly Repo'!O10","v":{"v":4721,"d":"4,721"}},{"$f":"'[1]Congressional Semi-Monthly Repo'!P10","v":{"v":4349,"d":"4,349"}},{"$f":"'[1]Congressional Semi-Monthly Repo'!Q10","v":{"v":5747,"d":"5,747"}},{"$f":"'[1]Congressional Semi-Monthly Repo'!R10","v":{"v":5335,"d":"5,335"}},{"$f":"'[1]Congressional Semi-Monthly Repo'!S10","v":{"v":4454,"d":"4,454"}},{"$f":"'[1]Congressional Semi-Monthly Repo'!T10","v":{"v":4656,"d":"4,656"}},{"$f":"'[1]Congressional Semi-Monthly Repo'!U10","v":{"v":4553,"d":"4,553"}},{"$f":"'[1]Congressional Semi-Monthly Repo'!V10","v":{"v":8107,"d":"8,107"}},{"$f":"'[1]Congressional Semi-Monthly Repo'!W10","v":{"v":9900,"d":"9,900"}},{"$f":"'[1]Congressional Semi-Monthly Repo'!X10","v":{"v":8245,"d":"8,245"}},{"$f":"'[1]Congressional Semi-Monthly Repo'!Y10","v":{"v":8667,"d":"8,667"}},{"$f":"'[1]Congressional Semi-Monthly Repo'!Z10","v":{"v":9040,"d":"9,040"}}]
[null,"Fear Established_Persecution (Y)",null,{"$f":"'[1]Congressional Semi-Monthly Repo'!B11","v":{"v":1102,"d":"1,102"}},{"$f":"'[1]Congressional Semi-Monthly Repo'!C11","v":{"v":1086,"d":"1,086"}},{"$f":"'[1]Congressional Semi-Monthly Repo'!D11","v":{"v":1073,"d":"1,073"}},{"$f":"'[1]Congressional Semi-Monthly Repo'!E11","v":{"v":1143,"d":"1,143"}},{"$f":"'[1]Congressional Semi-Monthly Repo'!F11","v":{"v":1188,"d":"1,188"}},{"$f":"'[1]Congressional Semi-Monthly Repo'!G11","v":815},{"$f":"'[1]Congressional Semi-Monthly Repo'!H11","v":{"v":1257,"d":"1,257"}},{"$f":"'[1]Congressional Semi-Monthly Repo'!I11","v":{"v":2153,"d":"2,153"}},{"$f":"'[1]Congressional Semi-Monthly Repo'!J11","v":{"v":1698,"d":"1,698"}},{"$f":"'[1]Congressional Semi-Monthly Repo'!K11","v":{"v":2161,"d":"2,161"}},{"$f":"'[1]Congressional Semi-Monthly Repo'!L11","v":{"v":1630,"d":"1,630"}},{"$f":"'[1]Congressional Semi-Monthly Repo'!M11","v":{"v":1249,"d":"1,249"}},{"$f":"'[1]Congressional Semi-Monthly Repo'!N11","v":{"v":1712,"d":"1,712"}},{"$f":"'[1]Congressional Semi-Monthly Repo'!O11","v":{"v":1868,"d":"1,868"}},{"$f":"'[1]Congressional Semi-Monthly Repo'!P11","v":{"v":1766,"d":"1,766"}},{"$f":"'[1]Congressional Semi-Monthly Repo'!Q11","v":{"v":2450,"d":"2,450"}},{"$f":"'[1]Congressional Semi-Monthly Repo'!R11","v":{"v":2403,"d":"2,403"}},{"$f":"'[1]Congressional Semi-Monthly Repo'!S11","v":{"v":1971,"d":"1,971"}},{"$f":"'[1]Congressional Semi-Monthly Repo'!T11","v":{"v":1815,"d":"1,815"}},{"$f":"'[1]Congressional Semi-Monthly Repo'!U11","v":{"v":1428,"d":"1,428"}},{"$f":"'[1]Congressional Semi-Monthly Repo'!V11","v":{"v":2454,"d":"2,454"}},{"$f":"'[1]Congressional Semi-Monthly Repo'!W11","v":{"v":2835,"d":"2,835"}},{"$f":"'[1]Congressional Semi-Monthly Repo'!X10","v":{"v":8245,"d":"8,245"}},{"$f":"'[1]Congressional Semi-Monthly Repo'!Y10","v":{"v":8667,"d":"8,667"}},{"$f":"'[1]Congressional Semi-Monthly Repo'!Z11","v":{"v":2937,"d":"2,937"}}]
[null,"Fear Established_Torture (Y)",null,{"$f":"'[1]Congressional Semi-Monthly Repo'!B12","v":517},{"$f":"'[1]Congressional Semi-Monthly Repo'!C12","v":385},{"$f":"'[1]Congressional Semi-Monthly Repo'!D12","v":402},{"$f":"'[1]Congressional Semi-Monthly Repo'!E12","v":559},{"$f":"'[1]Congressional Semi-Monthly Repo'!F12","v":458},{"$f":"'[1]Congressional Semi-Monthly Repo'!G12","v":405},{"$f":"'[1]Congressional Semi-Monthly Repo'!H12","v":548},{"$f":"'[1]Congressional Semi-Monthly Repo'!I12","v":896},{"$f":"'[1]Congressional Semi-Monthly Repo'!J12","v":718},{"$f":"'[1]Congressional Semi-Monthly Repo'!K12","v":{"v":1151,"d":"1,151"}},{"$f":"'[1]Congressional Semi-Monthly Repo'!L12","v":684},{"$f":"'[1]Congressional Semi-Monthly Repo'!M12","v":523},{"$f":"'[1]Congressional Semi-Monthly Repo'!N12","v":907},{"$f":"'[1]Congressional Semi-Monthly Repo'!O12","v":{"v":1235,"d":"1,235"}},{"$f":"'[1]Congressional Semi-Monthly Repo'!P12","v":{"v":1304,"d":"1,304"}},{"$f":"'[1]Congressional Semi-Monthly Repo'!Q12","v":{"v":1729,"d":"1,729"}},{"$f":"'[1]Congressional Semi-Monthly Repo'!R12","v":{"v":1691,"d":"1,691"}},{"$f":"'[1]Congressional Semi-Monthly Repo'!S12","v":{"v":1557,"d":"1,557"}},{"$f":"'[1]Congressional Semi-Monthly Repo'!T12","v":{"v":1425,"d":"1,425"}},{"$f":"'[1]Congressional Semi-Monthly Repo'!U12","v":{"v":1126,"d":"1,126"}},{"$f":"'[1]Congressional Semi-Monthly Repo'!V12","v":{"v":1777,"d":"1,777"}},{"$f":"'[1]Congressional Semi-Monthly Repo'!W12","v":{"v":1969,"d":"1,969"}},{"$f":"'[1]Congressional Semi-Monthly Repo'!X11","v":{"v":2620,"d":"2,620"}},{"$f":"'[1]Congressional Semi-Monthly Repo'!Y11","v":{"v":3095,"d":"3,095"}},{"$f":"'[1]Congressional Semi-Monthly Repo'!Z12","v":{"v":2094,"d":"2,094"}}]
[null,"Fear Not Established (N)",null,{"$f":"'[1]Congressional Semi-Monthly Repo'!B13","v":{"v":1126,"d":"1,126"}},{"$f":"'[1]Congressional Semi-Monthly Repo'!C13","v":{"v":1135,"d":"1,135"}},{"$f":"'[1]Congressional Semi-Monthly Repo'!D13","v":{"v":1219,"d":"1,219"}},{"$f":"'[1]Congressional Semi-Monthly Repo'!E13","v":{"v":1482,"d":"1,482"}},{"$f":"'[1]Congressional Semi-Monthly Repo'!F13","v":{"v":1190,"d":"1,190"}},{"$f":"'[1]Congressional Semi-Monthly Repo'!G13","v":931},{"$f":"'[1]Congressional Semi-Monthly Repo'!H13","v":{"v":1211,"d":"1,211"}},{"$f":"'[1]Congressional Semi-Monthly Repo'!I13","v":{"v":1333,"d":"1,333"}},{"$f":"'[1]Congressional Semi-Monthly Repo'!J13","v":829},{"$f":"'[1]Congressional Semi-Monthly Repo'!K13","v":893},{"$f":"'[1]Congressional Semi-Monthly Repo'!L13","v":578},{"$f":"'[1]Congressional Semi-Monthly Repo'!M13","v":621},{"$f":"'[1]Congressional Semi-Monthly Repo'!N13","v":{"v":1289,"d":"1,289"}},{"$f":"'[1]Congressional Semi-Monthly Repo'!O13","v":{"v":1405,"d":"1,405"}},{"$f":"'[1]Congressional Semi-Monthly Repo'!P13","v":{"v":1046,"d":"1,046"}},{"$f":"'[1]Congressional Semi-Monthly Repo'!Q13","v":{"v":1202,"d":"1,202"}},{"$f":"'[1]Congressional Semi-Monthly Repo'!R13","v":{"v":1055,"d":"1,055"}},{"$f":"'[1]Congressional Semi-Monthly Repo'!S13","v":770},{"$f":"'[1]Congressional Semi-Monthly Repo'!T13","v":856},{"$f":"'[1]Congressional Semi-Monthly Repo'!U13","v":{"v":1187,"d":"1,187"}},{"$f":"'[1]Congressional Semi-Monthly Repo'!V13","v":{"v":3093,"d":"3,093"}},{"$f":"'[1]Congressional Semi-Monthly Repo'!W13","v":{"v":4097,"d":"4,097"}},{"$f":"'[1]Congressional Semi-Monthly Repo'!X12","v":{"v":1917,"d":"1,917"}},{"$f":"'[1]Congressional Semi-Monthly Repo'!Y12","v":{"v":2073,"d":"2,073"}},{"$f":"'[1]Congressional Semi-Monthly Repo'!Z13","v":{"v":3153,"d":"3,153"}}]
[null,"Administratively Closed",null,{"$f":"'[1]Congressional Semi-Monthly Repo'!B14","v":155},{"$f":"'[1]Congressional Semi-Monthly Repo'!C14","v":103},{"$f":"'[1]Congressional Semi-Monthly Repo'!D14","v":118},{"$f":"'[1]Congressional Semi-Monthly Repo'!E14","v":89},{"$f":"'[1]Congressional Semi-Monthly Repo'!F14","v":197},{"$f":"'[1]Congressional Semi-Monthly Repo'!G14","v":145},{"$f":"'[1]Congressional Semi-Monthly Repo'!H14","v":192},{"$f":"'[1]Congressional Semi-Monthly Repo'!I14","v":158},{"$f":"'[1]Congressional Semi-Monthly Repo'!J14","v":186},{"$f":"'[1]Congressional Semi-Monthly Repo'!K14","v":415},{"$f":"'[1]Congressional Semi-Monthly Repo'!L14","v":248},{"$f":"'[1]Congressional Semi-Monthly Repo'!M14","v":148},{"$f":"'[1]Congressional Semi-Monthly Repo'!N14","v":220},{"$f":"'[1]Congressional Semi-Monthly Repo'!O14","v":213},{"$f":"'[1]Congressional Semi-Monthly Repo'!P14","v":233},{"$f":"'[1]Congressional Semi-Monthly Repo'!Q14","v":366},{"$f":"'[1]Congressional Semi-Monthly Repo'!R14","v":186},{"$f":"'[1]Congressional Semi-Monthly Repo'!S14","v":156},{"$f":"'[1]Congressional Semi-Monthly Repo'!T14","v":560},{"$f":"'[1]Congressional Semi-Monthly Repo'!U14","v":812},{"$f":"'[1]Congressional Semi-Monthly Repo'!V14","v":783},{"$f":"'[1]Congressional Semi-Monthly Repo'!W14","v":999},{"$f":"'[1]Congressional Semi-Monthly Repo'!X14","v":823},{"$f":"'[1]Congressional Semi-Monthly Repo'!Y14","v":745},{"$f":"'[1]Congressional Semi-Monthly Repo'!Z14","v":856}]
[null,"Credible Fear Cases Subject to Third Country Transit Bar - Interim Final Rule2"]
[]
[null,"From",null,{"$f":"D6","v":"2022-07-16"},{"$f":"E6","v":"2022-08-01"},"2022-08-16","2022-09-01","2022-09-16","2022-10-01","2022-10-16","2022-11-01","2022-11-16","2022-12-01","2022-12-16","2023-01-01","2023-01-16","2023-02-01","2023-02-16","2023-03-01","2023-03-16","2023-04-01","2023-04-16","2023-05-01","2023-05-16","2023-06-01","2023-06-16","2023-07-01",{"$f":"AB6","v":"2023-07-16"}]
[null,"To",null,{"$f":"D7","v":"2022-07-31"},{"$f":"E7","v":"2022-08-15"},"2022-08-31","2022-09-15","2022-09-30","2022-10-15","2022-10-31","2022-11-15","2022-11-30","2022-12-15","2022-12-31","2023-01-15","2023-01-31","2023-02-15","2023-02-28","2023-03-15","2023-03-31","2023-04-15","2023-04-30","2023-05-15","2023-05-31","2023-06-15","2023-06-30","2023-07-15",{"$f":"AB7","v":"2023-07-31"}]
[null,"Subject to Bar under 8 CFR 208.13(c)(4) - No Exception Established","Case Receipts","-","-","-","-","-","-","-","-","-","-","-","-","-","-","-","-","-","-","-","-","-","-","-","-","-"]
[null,null,"All Decisions","-","-","-","-","-","-","-","-","-","-","-","-","-","-","-","-","-","-","-","-","-","-","-","-","-"]
[null,null,"Fear Established_Persecution (Y)","-","-","-","-","-","-","-","-","-","-","-","-","-","-","-","-","-","-","-","-","-","-","-","-","-"]
[null,null,"Fear Established_Torture (Y)","-","-","-","-","-","-","-","-","-","-","-","-","-","-","-","-","-","-","-","-","-","-","-","-","-"]
[null,null,"Fear Not Established (N)","-","-","-","-","-","-","-","-","-","-","-","-","-","-","-","-","-","-","-","-","-","-","-","-","-"]
[null,null,"Administratively Closed","-","-","-","-","-","-","-","-","-","-","-","-","-","-","-","-","-","-","-","-","-","-","-","-","-"]
[null,"Subject to Bar under 8 CFR 208.13(c)(4) - Exception Established","Case Receipts","-","-","-","-","-","-","-","-","-","-","-","-","-","-","-","-","-","-","-","-","-","-","-","-","-"]
[null,null,"All Decisions","-","-","-","-","-","-","-","-","-","-","-","-","-","-","-","-","-","-","-","-","-","-","-","-","-"]
[null,null,"Fear Established_Persecution (Y)","-","-","-","-","-","-","-","-","-","-","-","-","-","-","-","-","-","-","-","-","-","-","-","-","-"]
[null,null,"Fear Established_Torture (Y)","-","-","-","-","-","-","-","-","-","-","-","-","-","-","-","-","-","-","-","-","-","-","-","-","-"]
[null,null,"Fear Not Established (N)","-","-","-","-","-","-","-","-","-","-","-","-","-","-","-","-","-","-","-","-","-","-","-","-","-"]
[null,null,"Administratively Closed","-","-","-","-","-","-","-","-","-","-","-","-","-","-","-","-","-","-","-","-","-","-","-","-","-"]
[null,"Credible Fear Cases at Family Residential Centers3"]
[]
[null,"From",null,{"$f":"D6","v":"2022-07-16"},{"$f":"E6","v":"2022-08-01"},"2022-08-16","2022-09-01","2022-09-16","2022-10-01","2022-10-16","2022-11-01","2022-11-16","2022-12-01","2022-12-16","2023-01-01","2023-01-16","2023-02-01","2023-02-16","2023-03-01","2023-03-16","2023-04-01","2023-04-16","2023-05-01","2023-05-16","2023-06-01","2023-06-16","2023-07-01",{"$f":"AB6","v":"2023-07-16"}]
[null,"To",null,{"$f":"D7","v":"2022-07-31"},{"$f":"E7","v":"2022-08-15"},"2022-08-31","2022-09-15","2022-09-30","2022-10-15","2022-10-31","2022-11-15","2022-11-30","2022-12-15","2022-12-31","2023-01-15","2023-01-31","2023-02-15","2023-02-28","2023-03-15","2023-03-31","2023-04-15","2023-04-30","2023-05-15","2023-05-31","2023-06-15","2023-06-30","2023-07-15",{"$f":"AB7","v":"2023-07-31"}]
[null,"Case Receipts",null,{"$f":"'[1]Congressional Semi-Monthly Repo'!B21","v":499},{"$f":"'[1]Congressional Semi-Monthly Repo'!C21","v":334},{"$f":"'[1]Congressional Semi-Monthly Repo'!D21","v":599},{"$f":"'[1]Congressional Semi-Monthly Repo'!E21","v":513},{"$f":"'[1]Congressional Semi-Monthly Repo'!F21","v":859},{"$f":"'[1]Congressional Semi-Monthly Repo'!G21","v":{"v":1248,"d":"1,248"}},{"$f":"'[1]Congressional Semi-Monthly Repo'!H21","v":844},{"$f":"'[1]Congressional Semi-Monthly Repo'!I21","v":760},{"$f":"'[1]Congressional Semi-Monthly Repo'!J21","v":720},{"$f":"'[1]Congressional Semi-Monthly Repo'!K21","v":528},{"$f":"'[1]Congressional Semi-Monthly Repo'!L21","v":378},{"$f":"'[1]Congressional Semi-Monthly Repo'!M21","v":248},{"$f":"'[1]Congressional Semi-Monthly Repo'!N21","v":{"v":1310,"d":"1,310"}},{"$f":"'[1]Congressional Semi-Monthly Repo'!O21","v":{"v":1276,"d":"1,276"}},{"$f":"'[1]Congressional Semi-Monthly Repo'!P21","v":593},{"$f":"'[1]Congressional Semi-Monthly Repo'!Q21","v":653},{"$f":"'[1]Congressional Semi-Monthly Repo'!R21","v":631},{"$f":"'[1]Congressional Semi-Monthly Repo'!S21","v":571},{"$f":"'[1]Congressional Semi-Monthly Repo'!T21","v":662},{"$f":"'[1]Congressional Semi-Monthly Repo'!U21","v":500},{"$f":"'[1]Congressional Semi-Monthly Repo'!V21","v":946},{"$f":"'[1]Congressional Semi-Monthly Repo'!W21","v":517},{"$f":"'[1]Congressional Semi-Monthly Repo'!X21","v":407},{"$f":"'[1]Congressional Semi-Monthly Repo'!Y21","v":480},{"$f":"'[1]Congressional Semi-Monthly Repo'!Z21","v":290}]
[null,"All Decisions",null,{"$f":"'[1]Congressional Semi-Monthly Repo'!B22","v":185},{"$f":"'[1]Congressional Semi-Monthly Repo'!C22","v":344},{"$f":"'[1]Congressional Semi-Monthly Repo'!D22","v":268},{"$f":"'[1]Congressional Semi-Monthly Repo'!E22","v":518},{"$f":"'[1]Congressional Semi-Monthly Repo'!F22","v":438},{"$f":"'[1]Congressional Semi-Monthly Repo'!G22","v":506},{"$f":"'[1]Congressional Semi-Monthly Repo'!H22","v":658},{"$f":"'[1]Congressional Semi-Monthly Repo'!I22","v":{"v":1089,"d":"1,089"}},{"$f":"'[1]Congressional Semi-Monthly Repo'!J22","v":658},{"$f":"'[1]Congressional Semi-Monthly Repo'!K22","v":{"v":1030,"d":"1,030"}},{"$f":"'[1]Congressional Semi-Monthly Repo'!L22","v":710},{"$f":"'[1]Congressional Semi-Monthly Repo'!M22","v":225},{"$f":"'[1]Congressional Semi-Monthly Repo'!N22","v":505},{"$f":"'[1]Congressional Semi-Monthly Repo'!O22","v":860},{"$f":"'[1]Congressional Semi-Monthly Repo'!P22","v":873},{"$f":"'[1]Congressional Semi-Monthly Repo'!Q22","v":{"v":1029,"d":"1,029"}},{"$f":"'[1]Congressional Semi-Monthly Repo'!R22","v":759},{"$f":"'[1]Congressional Semi-Monthly Repo'!S22","v":779},{"$f":"'[1]Congressional Semi-Monthly Repo'!T22","v":779},{"$f":"'[1]Congressional Semi-Monthly Repo'!U22","v":392},{"$f":"'[1]Congressional Semi-Monthly Repo'!V22","v":732},{"$f":"'[1]Congressional Semi-Monthly Repo'!W22","v":678},{"$f":"'[1]Congressional Semi-Monthly Repo'!X22","v":500},{"$f":"'[1]Congressional Semi-Monthly Repo'!Y22","v":526},{"$f":"'[1]Congressional Semi-Monthly Repo'!Z22","v":434}]
[null,"Fear Established_Persecution (Y)",null,{"$f":"'[1]Congressional Semi-Monthly Repo'!B23","v":74},{"$f":"'[1]Congressional Semi-Monthly Repo'!C23","v":140},{"$f":"'[1]Congressional Semi-Monthly Repo'!D23","v":103},{"$f":"'[1]Congressional Semi-Monthly Repo'!E23","v":142},{"$f":"'[1]Congressional Semi-Monthly Repo'!F23","v":172},{"$f":"'[1]Congressional Semi-Monthly Repo'!G23","v":191},{"$f":"'[1]Congressional Semi-Monthly Repo'!H23","v":263},{"$f":"'[1]Congressional Semi-Monthly Repo'!I23","v":620},{"$f":"'[1]Congressional Semi-Monthly Repo'!J23","v":414},{"$f":"'[1]Congressional Semi-Monthly Repo'!K23","v":724},{"$f":"'[1]Congressional Semi-Monthly Repo'!L23","v":497},{"$f":"'[1]Congressional Semi-Monthly Repo'!M23","v":163},{"$f":"'[1]Congressional Semi-Monthly Repo'!N23","v":202},{"$f":"'[1]Congressional Semi-Monthly Repo'!O23","v":389},{"$f":"'[1]Congressional Semi-Monthly Repo'!P23","v":473},{"$f":"'[1]Congressional Semi-Monthly Repo'!Q23","v":646},{"$f":"'[1]Congressional Semi-Monthly Repo'!R23","v":532},{"$f":"'[1]Congressional Semi-Monthly Repo'!S23","v":497},{"$f":"'[1]Congressional Semi-Monthly Repo'!T23","v":483},{"$f":"'[1]Congressional Semi-Monthly Repo'!U23","v":184},{"$f":"'[1]Congressional Semi-Monthly Repo'!V23","v":332},{"$f":"'[1]Congressional Semi-Monthly Repo'!W23","v":222},{"$f":"'[1]Congressional Semi-Monthly Repo'!X23","v":255},{"$f":"'[1]Congressional Semi-Monthly Repo'!Y23","v":291},{"$f":"'[1]Congressional Semi-Monthly Repo'!Z23","v":241}]
[null,"Fear Established_Torture (Y)",null,{"$f":"'[1]Congressional Semi-Monthly Repo'!B24","v":36},{"$f":"'[1]Congressional Semi-Monthly Repo'!C24","v":50},{"$f":"'[1]Congressional Semi-Monthly Repo'!D24","v":37},{"$f":"'[1]Congressional Semi-Monthly Repo'!E24","v":79},{"$f":"'[1]Congressional Semi-Monthly Repo'!F24","v":50},{"$f":"'[1]Congressional Semi-Monthly Repo'!G24","v":95},{"$f":"'[1]Congressional Semi-Monthly Repo'!H24","v":144},{"$f":"'[1]Congressional Semi-Monthly Repo'!I24","v":217},{"$f":"'[1]Congressional Semi-Monthly Repo'!J24","v":115},{"$f":"'[1]Congressional Semi-Monthly Repo'!K24","v":206},{"$f":"'[1]Congressional Semi-Monthly Repo'!L24","v":136},{"$f":"'[1]Congressional Semi-Monthly Repo'!M24","v":39},{"$f":"'[1]Congressional Semi-Monthly Repo'!N24","v":103},{"$f":"'[1]Congressional Semi-Monthly Repo'!O24","v":219},{"$f":"'[1]Congressional Semi-Monthly Repo'!P24","v":251},{"$f":"'[1]Congressional Semi-Monthly Repo'!Q24","v":275},{"$f":"'[1]Congressional Semi-Monthly Repo'!R24","v":168},{"$f":"'[1]Congressional Semi-Monthly Repo'!S24","v":207},{"$f":"'[1]Congressional Semi-Monthly Repo'!T24","v":203},{"$f":"'[1]Congressional Semi-Monthly Repo'!U24","v":102},{"$f":"'[1]Congressional Semi-Monthly Repo'!V24","v":145},{"$f":"'[1]Congressional Semi-Monthly Repo'!W24","v":122},{"$f":"'[1]Congressional Semi-Monthly Repo'!X24","v":98},{"$f":"'[1]Congressional Semi-Monthly Repo'!Y24","v":82},{"$f":"'[1]Congressional Semi-Monthly Repo'!Z24","v":86}]
[null,"Fear Not Established (N)",null,{"$f":"'[1]Congressional Semi-Monthly Repo'!B25","v":73},{"$f":"'[1]Congressional Semi-Monthly Repo'!C25","v":150},{"$f":"'[1]Congressional Semi-Monthly Repo'!D25","v":128},{"$f":"'[1]Congressional Semi-Monthly Repo'!E25","v":293},{"$f":"'[1]Congressional Semi-Monthly Repo'!F25","v":210},{"$f":"'[1]Congressional Semi-Monthly Repo'!G25","v":214},{"$f":"'[1]Congressional Semi-Monthly Repo'!H25","v":239},{"$f":"'[1]Congressional Semi-Monthly Repo'!I25","v":238},{"$f":"'[1]Congressional Semi-Monthly Repo'!J25","v":113},{"$f":"'[1]Congressional Semi-Monthly Repo'!K25","v":84},{"$f":"'[1]Congressional Semi-Monthly Repo'!L25","v":69},{"$f":"'[1]Congressional Semi-Monthly Repo'!M25","v":17},{"$f":"'[1]Congressional Semi-Monthly Repo'!N25","v":190},{"$f":"'[1]Congressional Semi-Monthly Repo'!O25","v":235},{"$f":"'[1]Congressional Semi-Monthly Repo'!P25","v":134},{"$f":"'[1]Congressional Semi-Monthly Repo'!Q25","v":94},{"$f":"'[1]Congressional Semi-Monthly Repo'!R25","v":47},{"$f":"'[1]Congressional Semi-Monthly Repo'!S25","v":67},{"$f":"'[1]Congressional Semi-Monthly Repo'!T25","v":52},{"$f":"'[1]Congressional Semi-Monthly Repo'!U25","v":77},{"$f":"'[1]Congressional Semi-Monthly Repo'!V25","v":201},{"$f":"'[1]Congressional Semi-Monthly Repo'!W25","v":270},{"$f":"'[1]Congressional Semi-Monthly Repo'!X25","v":121},{"$f":"'[1]Congressional Semi-Monthly Repo'!Y25","v":134},{"$f":"'[1]Congressional Semi-Monthly Repo'!Z25","v":79}]
[null,"Administratively Closed",null,{"$f":"'[1]Congressional Semi-Monthly Repo'!B26","v":2},{"$f":"'[1]Congressional Semi-Monthly Repo'!C26","v":4},{"$f":"'[1]Congressional Semi-Monthly Repo'!D26","v":0},{"$f":"'[1]Congressional Semi-Monthly Repo'!E26","v":4},{"$f":"'[1]Congressional Semi-Monthly Repo'!F26","v":6},{"$f":"'[1]Congressional Semi-Monthly Repo'!G26","v":6},{"$f":"'[1]Congressional Semi-Monthly Repo'!H26","v":12},{"$f":"'[1]Congressional Semi-Monthly Repo'!I26","v":14},{"$f":"'[1]Congressional Semi-Monthly Repo'!J26","v":16},{"$f":"'[1]Congressional Semi-Monthly Repo'!K26","v":16},{"$f":"'[1]Congressional Semi-Monthly Repo'!L26","v":8},{"$f":"'[1]Congressional Semi-Monthly Repo'!M26","v":6},{"$f":"'[1]Congressional Semi-Monthly Repo'!N26","v":10},{"$f":"'[1]Congressional Semi-Monthly Repo'!O26","v":17},{"$f":"'[1]Congressional Semi-Monthly Repo'!P26","v":15},{"$f":"'[1]Congressional Semi-Monthly Repo'!Q26","v":14},{"$f":"'[1]Congressional Semi-Monthly Repo'!R26","v":12},{"$f":"'[1]Congressional Semi-Monthly Repo'!S26","v":8},{"$f":"'[1]Congressional Semi-Monthly Repo'!T26","v":41},{"$f":"'[1]Congressional Semi-Monthly Repo'!U26","v":29},{"$f":"'[1]Congressional Semi-Monthly Repo'!V26","v":54},{"$f":"'[1]Congressional Semi-Monthly Repo'!W26","v":64},{"$f":"'[1]Congressional Semi-Monthly Repo'!X26","v":26},{"$f":"'[1]Congressional Semi-Monthly Repo'!Y26","v":19},{"$f":"'[1]Congressional Semi-Monthly Repo'!Z26","v":28}]
[null,"All Reasonable Fear Cases"]
[]
[null,"From",null,{"$f":"D6","v":"2022-07-16"},{"$f":"E6","v":"2022-08-01"},"2022-08-16","2022-09-01",{"$f":"H6","v":"2022-09-16"},"2022-10-01","2022-10-16","2022-11-01","2022-11-16","2022-12-01","2022-12-16","2023-01-01","2023-01-16","2023-02-01","2023-02-16","2023-03-01","2023-03-16","2023-04-01","2023-04-16","2023-05-01","2023-05-16","2023-06-01","2023-06-16","2023-07-01","2023-07-16"]
[null,"To",null,{"$f":"D7","v":"2022-07-31"},{"$f":"E7","v":"2022-08-15"},"2022-08-31","2022-09-15",{"$f":"H7","v":"2022-09-30"},"2022-10-15","2022-10-31","2022-11-15","2022-11-30","2022-12-15","2022-12-31","2023-01-15","2023-01-31","2023-02-15","2023-02-28","2023-03-15","2023-03-31","2023-04-15","2023-04-30","2023-05-15","2023-05-31","2023-06-15","2023-06-30","2023-07-15","2023-07-31"]
[null,"Case Receipts",null,{"$f":"'[1]Congressional Semi-Monthly Repo'!B31","v":306},{"$f":"'[1]Congressional Semi-Monthly Repo'!C31","v":324},{"$f":"'[1]Congressional Semi-Monthly Repo'!D31","v":422},{"$f":"'[1]Congressional Semi-Monthly Repo'!E31","v":328},{"$f":"'[1]Congressional Semi-Monthly Repo'!F31","v":470},{"$f":"'[1]Congressional Semi-Monthly Repo'!G31","v":310},{"$f":"'[1]Congressional Semi-Monthly Repo'!H31","v":353},{"$f":"'[1]Congressional Semi-Monthly Repo'!I31","v":366},{"$f":"'[1]Congressional Semi-Monthly Repo'!J31","v":342},{"$f":"'[1]Congressional Semi-Monthly Repo'!K31","v":386},{"$f":"'[1]Congressional Semi-Monthly Repo'!L31","v":283},{"$f":"'[1]Congressional Semi-Monthly Repo'!M31","v":390},{"$f":"'[1]Congressional Semi-Monthly Repo'!N31","v":413},{"$f":"'[1]Congressional Semi-Monthly Repo'!O31","v":390},{"$f":"'[1]Congressional Semi-Monthly Repo'!P31","v":301},{"$f":"'[1]Congressional Semi-Monthly Repo'!Q31","v":406},{"$f":"'[1]Congressional Semi-Monthly Repo'!R31","v":472},{"$f":"'[1]Congressional Semi-Monthly Repo'!S31","v":360},{"$f":"'[1]Congressional Semi-Monthly Repo'!T31","v":350},{"$f":"'[1]Congressional Semi-Monthly Repo'!U31","v":370},{"$f":"'[1]Congressional Semi-Monthly Repo'!V31","v":424},{"$f":"'[1]Congressional Semi-Monthly Repo'!W31","v":675},{"$f":"'[1]Congressional Semi-Monthly Repo'!X31","v":543},{"$f":"'[1]Congressional Semi-Monthly Repo'!Y31","v":399},{"$f":"'[1]Congressional Semi-Monthly Repo'!Z31","v":498}]
[null,"All Decisions",null,{"$f":"'[1]Congressional Semi-Monthly Repo'!B32","v":253},{"$f":"'[1]Congressional Semi-Monthly Repo'!C32","v":289},{"$f":"'[1]Congressional Semi-Monthly Repo'!D32","v":298},{"$f":"'[1]Congressional Semi-Monthly Repo'!E32","v":293},{"$f":"'[1]Congressional Semi-Monthly Repo'!F32","v":397},{"$f":"'[1]Congressional Semi-Monthly Repo'!G32","v":305},{"$f":"'[1]Congressional Semi-Monthly Repo'!H32","v":339},{"$f":"'[1]Congressional Semi-Monthly Repo'!I32","v":365},{"$f":"'[1]Congressional Semi-Monthly Repo'!J32","v":323},{"$f":"'[1]Congressional Semi-Monthly Repo'!K32","v":398},{"$f":"'[1]Congressional Semi-Monthly Repo'!L32","v":293},{"$f":"'[1]Congressional Semi-Monthly Repo'!M32","v":287},{"$f":"'[1]Congressional Semi-Monthly Repo'!N32","v":425},{"$f":"'[1]Congressional Semi-Monthly Repo'!O32","v":361},{"$f":"'[1]Congressional Semi-Monthly Repo'!P32","v":273},{"$f":"'[1]Congressional Semi-Monthly Repo'!Q32","v":385},{"$f":"'[1]Congressional Semi-Monthly Repo'!R32","v":426},{"$f":"'[1]Congressional Semi-Monthly Repo'!S32","v":351},{"$f":"'[1]Congressional Semi-Monthly Repo'!T32","v":325},{"$f":"'[1]Congressional Semi-Monthly Repo'!U32","v":385},{"$f":"'[1]Congressional Semi-Monthly Repo'!V32","v":326},{"$f":"'[1]Congressional Semi-Monthly Repo'!W32","v":556},{"$f":"'[1]Congressional Semi-Monthly Repo'!X32","v":617},{"$f":"'[1]Congressional Semi-Monthly Repo'!Y32","v":386},{"$f":"'[1]Congressional Semi-Monthly Repo'!Z32","v":528}]
[null,"Fear Established_Persecution (Y)",null,{"$f":"'[1]Congressional Semi-Monthly Repo'!B33","v":57},{"$f":"'[1]Congressional Semi-Monthly Repo'!C33","v":56},{"$f":"'[1]Congressional Semi-Monthly Repo'!D33","v":47},{"$f":"'[1]Congressional Semi-Monthly Repo'!E33","v":67},{"$f":"'[1]Congressional Semi-Monthly Repo'!F33","v":63},{"$f":"'[1]Congressional Semi-Monthly Repo'!G33","v":57},{"$f":"'[1]Congressional Semi-Monthly Repo'!H33","v":65},{"$f":"'[1]Congressional Semi-Monthly Repo'!I33","v":104},{"$f":"'[1]Congressional Semi-Monthly Repo'!J33","v":64},{"$f":"'[1]Congressional Semi-Monthly Repo'!K33","v":98},{"$f":"'[1]Congressional Semi-Monthly Repo'!L33","v":56},{"$f":"'[1]Congressional Semi-Monthly Repo'!M33","v":70},{"$f":"'[1]Congressional Semi-Monthly Repo'!N33","v":88},{"$f":"'[1]Congressional Semi-Monthly Repo'!O33","v":56},{"$f":"'[1]Congressional Semi-Monthly Repo'!P33","v":35},{"$f":"'[1]Congressional Semi-Monthly Repo'!Q33","v":65},{"$f":"'[1]Congressional Semi-Monthly Repo'!R33","v":70},{"$f":"'[1]Congressional Semi-Monthly Repo'!S33","v":62},{"$f":"'[1]Congressional Semi-Monthly Repo'!T33","v":54},{"$f":"'[1]Congressional Semi-Monthly Repo'!U33","v":80},{"$f":"'[1]Congressional Semi-Monthly Repo'!V33","v":48},{"$f":"'[1]Congressional Semi-Monthly Repo'!W33","v":52},{"$f":"'[1]Congressional Semi-Monthly Repo'!X33","v":81},{"$f":"'[1]Congressional Semi-Monthly Repo'!Y33","v":45},{"$f":"'[1]Congressional Semi-Monthly Repo'!Z33","v":58}]
[null,"Fear Established_Torture (Y)",null,{"$f":"'[1]Congressional Semi-Monthly Repo'!B34","v":41},{"$f":"'[1]Congressional Semi-Monthly Repo'!C34","v":47},{"$f":"'[1]Congressional Semi-Monthly Repo'!D34","v":31},{"$f":"'[1]Congressional Semi-Monthly Repo'!E34","v":46},{"$f":"'[1]Congressional Semi-Monthly Repo'!F34","v":58},{"$f":"'[1]Congressional Semi-Monthly Repo'!G34","v":47},{"$f":"'[1]Congressional Semi-Monthly Repo'!H34","v":42},{"$f":"'[1]Congressional Semi-Monthly Repo'!I34","v":48},{"$f":"'[1]Congressional Semi-Monthly Repo'!J34","v":47},{"$f":"'[1]Congressional Semi-Monthly Repo'!K34","v":62},{"$f":"'[1]Congressional Semi-Monthly Repo'!L34","v":43},{"$f":"'[1]Congressional Semi-Monthly Repo'!M34","v":38},{"$f":"'[1]Congressional Semi-Monthly Repo'!N34","v":83},{"$f":"'[1]Congressional Semi-Monthly Repo'!O34","v":68},{"$f":"'[1]Congressional Semi-Monthly Repo'!P34","v":62},{"$f":"'[1]Congressional Semi-Monthly Repo'!Q34","v":67},{"$f":"'[1]Congressional Semi-Monthly Repo'!R34","v":67},{"$f":"'[1]Congressional Semi-Monthly Repo'!S34","v":52},{"$f":"'[1]Congressional Semi-Monthly Repo'!T34","v":56},{"$f":"'[1]Congressional Semi-Monthly Repo'!U34","v":65},{"$f":"'[1]Congressional Semi-Monthly Repo'!V34","v":51},{"$f":"'[1]Congressional Semi-Monthly Repo'!W34","v":89},{"$f":"'[1]Congressional Semi-Monthly Repo'!X34","v":77},{"$f":"'[1]Congressional Semi-Monthly Repo'!Y34","v":70},{"$f":"'[1]Congressional Semi-Monthly Repo'!Z34","v":98}]
[null,"Fear Not Established (N)",null,{"$f":"'[1]Congressional Semi-Monthly Repo'!B35","v":118},{"$f":"'[1]Congressional Semi-Monthly Repo'!C35","v":132},{"$f":"'[1]Congressional Semi-Monthly Repo'!D35","v":153},{"$f":"'[1]Congressional Semi-Monthly Repo'!E35","v":124},{"$f":"'[1]Congressional Semi-Monthly Repo'!F35","v":193},{"$f":"'[1]Congressional Semi-Monthly Repo'!G35","v":139},{"$f":"'[1]Congressional Semi-Monthly Repo'!H35","v":144},{"$f":"'[1]Congressional Semi-Monthly Repo'!I35","v":145},{"$f":"'[1]Congressional Semi-Monthly Repo'!J35","v":128},{"$f":"'[1]Congressional Semi-Monthly Repo'!K35","v":162},{"$f":"'[1]Congressional Semi-Monthly Repo'!L35","v":128},{"$f":"'[1]Congressional Semi-Monthly Repo'!M35","v":128},{"$f":"'[1]Congressional Semi-Monthly Repo'!N35","v":170},{"$f":"'[1]Congressional Semi-Monthly Repo'!O35","v":162},{"$f":"'[1]Congressional Semi-Monthly Repo'!P35","v":120},{"$f":"'[1]Congressional Semi-Monthly Repo'!Q35","v":159},{"$f":"'[1]Congressional Semi-Monthly Repo'!R35","v":169},{"$f":"'[1]Congressional Semi-Monthly Repo'!S35","v":154},{"$f":"'[1]Congressional Semi-Monthly Repo'!T35","v":139},{"$f":"'[1]Congressional Semi-Monthly Repo'!U35","v":162},{"$f":"'[1]Congressional Semi-Monthly Repo'!V35","v":155},{"$f":"'[1]Congressional Semi-Monthly Repo'!W35","v":267},{"$f":"'[1]Congressional Semi-Monthly Repo'!X35","v":325},{"$f":"'[1]Congressional Semi-Monthly Repo'!Y35","v":184},{"$f":"'[1]Congressional Semi-Monthly Repo'!Z35","v":253}]
[null,"Administratively Closed",null,{"$f":"'[1]Congressional Semi-Monthly Repo'!B36","v":37},{"$f":"'[1]Congressional Semi-Monthly Repo'!C36","v":54},{"$f":"'[1]Congressional Semi-Monthly Repo'!D36","v":67},{"$f":"'[1]Congressional Semi-Monthly Repo'!E36","v":56},{"$f":"'[1]Congressional Semi-Monthly Repo'!F36","v":83},{"$f":"'[1]Congressional Semi-Monthly Repo'!G36","v":62},{"$f":"'[1]Congressional Semi-Monthly Repo'!H36","v":88},{"$f":"'[1]Congressional Semi-Monthly Repo'!I36","v":68},{"$f":"'[1]Congressional Semi-Monthly Repo'!J36","v":84},{"$f":"'[1]Congressional Semi-Monthly Repo'!K36","v":76},{"$f":"'[1]Congressional Semi-Monthly Repo'!L36","v":66},{"$f":"'[1]Congressional Semi-Monthly Repo'!M36","v":51},{"$f":"'[1]Congressional Semi-Monthly Repo'!N36","v":84},{"$f":"'[1]Congressional Semi-Monthly Repo'!O36","v":75},{"$f":"'[1]Congressional Semi-Monthly Repo'!P36","v":56},{"$f":"'[1]Congressional Semi-Monthly Repo'!Q36","v":94},{"$f":"'[1]Congressional Semi-Monthly Repo'!R36","v":120},{"$f":"'[1]Congressional Semi-Monthly Repo'!S36","v":83},{"$f":"'[1]Congressional Semi-Monthly Repo'!T36","v":76},{"$f":"'[1]Congressional Semi-Monthly Repo'!U36","v":78},{"$f":"'[1]Congressional Semi-Monthly Repo'!V36","v":72},{"$f":"'[1]Congressional Semi-Monthly Repo'!W36","v":148},{"$f":"'[1]Congressional Semi-Monthly Repo'!X36","v":134},{"$f":"'[1]Congressional Semi-Monthly Repo'!Y36","v":87},{"$f":"'[1]Congressional Semi-Monthly Repo'!Z36","v":119}]
[null,"Reasonable Fear Cases at Family Residential Centers"]
[]
[null,"From",null,{"$f":"D6","v":"2022-07-16"},{"$f":"E6","v":"2022-08-01"},"2022-08-16","2022-09-01","2022-09-16","2022-10-01","2022-10-16","2022-11-01","2022-11-16","2022-12-01","2022-12-16","2023-01-01","2023-01-16","2023-02-01","2023-02-16","2023-03-01","2023-03-16","2023-04-01","2023-04-16","2023-05-01","2023-05-16","2023-06-01","2023-06-16","2023-07-01","2023-07-16"]
[null,"To",null,{"$f":"D7","v":"2022-07-31"},{"$f":"E7","v":"2022-08-15"},"2022-08-31","2022-09-15","2022-09-30","2022-10-15","2022-10-31","2022-11-15","2022-11-30","2022-12-15","2022-12-31","2023-01-15","2023-01-31","2023-02-15","2023-02-28","2023-03-15","2023-03-31","2023-04-15","2023-04-30","2023-05-15","2023-05-31","2023-06-15","2023-06-30","2023-07-15","2023-07-31"]
[null,"Case Receipts",null,{"$f":"'[1]Congressional Semi-Monthly Repo'!B41","v":5},{"$f":"'[1]Congressional Semi-Monthly Repo'!C41","v":7},{"$f":"'[1]Congressional Semi-Monthly Repo'!D41","v":12},{"$f":"'[1]Congressional Semi-Monthly Repo'!E41","v":10},{"$f":"'[1]Congressional Semi-Monthly Repo'!F41","v":24},{"$f":"'[1]Congressional Semi-Monthly Repo'!G41","v":27},{"$f":"'[1]Congressional Semi-Monthly Repo'!H41","v":24},{"$f":"'[1]Congressional Semi-Monthly Repo'!I41","v":22},{"$f":"'[1]Congressional Semi-Monthly Repo'!J41","v":27},{"$f":"'[1]Congressional Semi-Monthly Repo'!K41","v":24},{"$f":"'[1]Congressional Semi-Monthly Repo'!L41","v":11},{"$f":"'[1]Congressional Semi-Monthly Repo'!M41","v":23},{"$f":"'[1]Congressional Semi-Monthly Repo'!N41","v":10},{"$f":"'[1]Congressional Semi-Monthly Repo'!O41","v":10},{"$f":"'[1]Congressional Semi-Monthly Repo'!P41","v":15},{"$f":"'[1]Congressional Semi-Monthly Repo'!Q41","v":8},{"$f":"'[1]Congressional Semi-Monthly Repo'!R41","v":8},{"$f":"'[1]Congressional Semi-Monthly Repo'!S41","v":8},{"$f":"'[1]Congressional Semi-Monthly Repo'!T41","v":2},{"$f":"'[1]Congressional Semi-Monthly Repo'!U41","v":14},{"$f":"'[1]Congressional Semi-Monthly Repo'!V41","v":27},{"$f":"'[1]Congressional Semi-Monthly Repo'!W41","v":165},{"$f":"'[1]Congressional Semi-Monthly Repo'!X41","v":73},{"$f":"'[1]Congressional Semi-Monthly Repo'!Y41","v":48},{"$f":"'[1]Congressional Semi-Monthly Repo'!Z41","v":39}]
[null,"All Decisions",null,{"$f":"'[1]Congressional Semi-Monthly Repo'!B42","v":6},{"$f":"'[1]Congressional Semi-Monthly Repo'!C42","v":2},{"$f":"'[1]Congressional Semi-Monthly Repo'!D42","v":6},{"$f":"'[1]Congressional Semi-Monthly Repo'!E42","v":3},{"$f":"'[1]Congressional Semi-Monthly Repo'!F42","v":19},{"$f":"'[1]Congressional Semi-Monthly Repo'!G42","v":19},{"$f":"'[1]Congressional Semi-Monthly Repo'!H42","v":32},{"$f":"'[1]Congressional Semi-Monthly Repo'!I42","v":16},{"$f":"'[1]Congressional Semi-Monthly Repo'!J42","v":25},{"$f":"'[1]Congressional Semi-Monthly Repo'!K42","v":28},{"$f":"'[1]Congressional Semi-Monthly Repo'!L42","v":12},{"$f":"'[1]Congressional Semi-Monthly Repo'!M42","v":23},{"$f":"'[1]Congressional Semi-Monthly Repo'!N42","v":8},{"$f":"'[1]Congressional Semi-Monthly Repo'!O42","v":12},{"$f":"'[1]Congressional Semi-Monthly Repo'!P42","v":11},{"$f":"'[1]Congressional Semi-Monthly Repo'!Q42","v":12},{"$f":"'[1]Congressional Semi-Monthly Repo'!R42","v":5},{"$f":"'[1]Congressional Semi-Monthly Repo'!S42","v":10},{"$f":"'[1]Congressional Semi-Monthly Repo'!T42","v":5},{"$f":"'[1]Congressional Semi-Monthly Repo'!U42","v":9},{"$f":"'[1]Congressional Semi-Monthly Repo'!V42","v":16},{"$f":"'[1]Congressional Semi-Monthly Repo'!W42","v":128},{"$f":"'[1]Congressional Semi-Monthly Repo'!X42","v":108},{"$f":"'[1]Congressional Semi-Monthly Repo'!Y42","v":49},{"$f":"'[1]Congressional Semi-Monthly Repo'!Z42","v":52}]
[null,"Fear Established_Persecution (Y)",null,{"$f":"'[1]Congressional Semi-Monthly Repo'!B43","v":3},{"$f":"'[1]Congressional Semi-Monthly Repo'!C43","v":1},{"$f":"'[1]Congressional Semi-Monthly Repo'!D43","v":2},{"$f":"'[1]Congressional Semi-Monthly Repo'!E43","v":2},{"$f":"'[1]Congressional Semi-Monthly Repo'!F43","v":8},{"$f":"'[1]Congressional Semi-Monthly Repo'!G43","v":5},{"$f":"'[1]Congressional Semi-Monthly Repo'!H43","v":10},{"$f":"'[1]Congressional Semi-Monthly Repo'!I43","v":11},{"$f":"'[1]Congressional Semi-Monthly Repo'!J43","v":11},{"$f":"'[1]Congressional Semi-Monthly Repo'!K43","v":18},{"$f":"'[1]Congressional Semi-Monthly Repo'!L43","v":5},{"$f":"'[1]Congressional Semi-Monthly Repo'!M43","v":11},{"$f":"'[1]Congressional Semi-Monthly Repo'!N43","v":3},{"$f":"'[1]Congressional Semi-Monthly Repo'!O43","v":4},{"$f":"'[1]Congressional Semi-Monthly Repo'!P43","v":1},{"$f":"'[1]Congressional Semi-Monthly Repo'!Q43","v":3},{"$f":"'[1]Congressional Semi-Monthly Repo'!R43","v":3},{"$f":"'[1]Congressional Semi-Monthly Repo'!S43","v":4},{"$f":"'[1]Congressional Semi-Monthly Repo'!T43","v":2},{"$f":"'[1]Congressional Semi-Monthly Repo'!U43","v":2},{"$f":"'[1]Congressional Semi-Monthly Repo'!V43","v":5},{"$f":"'[1]Congressional Semi-Monthly Repo'!W43","v":10},{"$f":"'[1]Congressional Semi-Monthly Repo'!X43","v":22},{"$f":"'[1]Congressional Semi-Monthly Repo'!Y43","v":5},{"$f":"'[1]Congressional Semi-Monthly Repo'!Z43","v":9}]
[null,"Fear Established_Torture (Y)",null,{"$f":"'[1]Congressional Semi-Monthly Repo'!B44","v":1},{"$f":"'[1]Congressional Semi-Monthly Repo'!C44","v":0},{"$f":"'[1]Congressional Semi-Monthly Repo'!D44","v":1},{"$f":"'[1]Congressional Semi-Monthly Repo'!E44","v":0},{"$f":"'[1]Congressional Semi-Monthly Repo'!F44","v":4},{"$f":"'[1]Congressional Semi-Monthly Repo'!G44","v":4},{"$f":"'[1]Congressional Semi-Monthly Repo'!H44","v":2},{"$f":"'[1]Congressional Semi-Monthly Repo'!I44","v":0},{"$f":"'[1]Congressional Semi-Monthly Repo'!J44","v":1},{"$f":"'[1]Congressional Semi-Monthly Repo'!K44","v":3},{"$f":"'[1]Congressional Semi-Monthly Repo'!L44","v":2},{"$f":"'[1]Congressional Semi-Monthly Repo'!M44","v":0},{"$f":"'[1]Congressional Semi-Monthly Repo'!N44","v":2},{"$f":"'[1]Congressional Semi-Monthly Repo'!O44","v":1},{"$f":"'[1]Congressional Semi-Monthly Repo'!P44","v":2},{"$f":"'[1]Congressional Semi-Monthly Repo'!Q44","v":2},{"$f":"'[1]Congressional Semi-Monthly Repo'!R44","v":1},{"$f":"'[1]Congressional Semi-Monthly Repo'!S44","v":1},{"$f":"'[1]Congressional Semi-Monthly Repo'!T44","v":1},{"$f":"'[1]Congressional Semi-Monthly Repo'!U44","v":3},{"$f":"'[1]Congressional Semi-Monthly Repo'!V44","v":3},{"$f":"'[1]Congressional Semi-Monthly Repo'!W44","v":22},{"$f":"'[1]Congressional Semi-Monthly Repo'!X44","v":12},{"$f":"'[1]Congressional Semi-Monthly Repo'!Y44","v":13},{"$f":"'[1]Congressional Semi-Monthly Repo'!Z44","v":13}]
[null,"Fear Not Established (N)",null,{"$f":"'[1]Congressional Semi-Monthly Repo'!B45","v":2},{"$f":"'[1]Congressional Semi-Monthly Repo'!C45","v":1},{"$f":"'[1]Congressional Semi-Monthly Repo'!D45","v":3},{"$f":"'[1]Congressional Semi-Monthly Repo'!E45","v":1},{"$f":"'[1]Congressional Semi-Monthly Repo'!F45","v":7},{"$f":"'[1]Congressional Semi-Monthly Repo'!G45","v":9},{"$f":"'[1]Congressional Semi-Monthly Repo'!H45","v":18},{"$f":"'[1]Congressional Semi-Monthly Repo'!I45","v":5},{"$f":"'[1]Congressional Semi-Monthly Repo'!J45","v":11},{"$f":"'[1]Congressional Semi-Monthly Repo'!K45","v":7},{"$f":"'[1]Congressional Semi-Monthly Repo'!L45","v":5},{"$f":"'[1]Congressional Semi-Monthly Repo'!M45","v":12},{"$f":"'[1]Congressional Semi-Monthly Repo'!N45","v":3},{"$f":"'[1]Congressional Semi-Monthly Repo'!O45","v":7},{"$f":"'[1]Congressional Semi-Monthly Repo'!P45","v":8},{"$f":"'[1]Congressional Semi-Monthly Repo'!Q45","v":7},{"$f":"'[1]Congressional Semi-Monthly Repo'!R45","v":1},{"$f":"'[1]Congressional Semi-Monthly Repo'!S45","v":5},{"$f":"'[1]Congressional Semi-Monthly Repo'!T45","v":2},{"$f":"'[1]Congressional Semi-Monthly Repo'!U45","v":4},{"$f":"'[1]Congressional Semi-Monthly Repo'!V45","v":6},{"$f":"'[1]Congressional Semi-Monthly Repo'!W45","v":65},{"$f":"'[1]Congressional Semi-Monthly Repo'!X45","v":66},{"$f":"'[1]Congressional Semi-Monthly Repo'!Y45","v":22},{"$f":"'[1]Congressional Semi-Monthly Repo'!Z45","v":27}]
[null,"Administratively Closed",null,{"$f":"'[1]Congressional Semi-Monthly Repo'!B46","v":0},{"$f":"'[1]Congressional Semi-Monthly Repo'!C46","v":0},{"$f":"'[1]Congressional Semi-Monthly Repo'!D46","v":0},{"$f":"'[1]Congressional Semi-Monthly Repo'!E46","v":0},{"$f":"'[1]Congressional Semi-Monthly Repo'!F46","v":0},{"$f":"'[1]Congressional Semi-Monthly Repo'!G46","v":1},{"$f":"'[1]Congressional Semi-Monthly Repo'!H46","v":2},{"$f":"'[1]Congressional Semi-Monthly Repo'!I46","v":0},{"$f":"'[1]Congressional Semi-Monthly Repo'!J46","v":2},{"$f":"'[1]Congressional Semi-Monthly Repo'!K46","v":0},{"$f":"'[1]Congressional Semi-Monthly Repo'!L46","v":0},{"$f":"'[1]Congressional Semi-Monthly Repo'!M46","v":0},{"$f":"'[1]Congressional Semi-Monthly Repo'!N46","v":0},{"$f":"'[1]Congressional Semi-Monthly Repo'!O46","v":0},{"$f":"'[1]Congressional Semi-Monthly Repo'!P46","v":0},{"$f":"'[1]Congressional Semi-Monthly Repo'!Q46","v":0},{"$f":"'[1]Congressional Semi-Monthly Repo'!R46","v":0},{"$f":"'[1]Congressional Semi-Monthly Repo'!S46","v":0},{"$f":"'[1]Congressional Semi-Monthly Repo'!T46","v":0},{"$f":"'[1]Congressional Semi-Monthly Repo'!U46","v":0},{"$f":"'[1]Congressional Semi-Monthly Repo'!V46","v":2},{"$f":"'[1]Congressional Semi-Monthly Repo'!W46","v":31},{"$f":"'[1]Congressional Semi-Monthly Repo'!X46","v":8},{"$f":"'[1]Congressional Semi-Monthly Repo'!Y46","v":9},{"$f":"'[1]Congressional Semi-Monthly Repo'!Z46","v":3}]
[null,"Credible Fear Cases Disaggregated by Adjudicator DHS Component and Occupational Series"]
[]
[null,"Adjudicator Component and Occupational Series","From",{"$f":"D6","v":"2022-07-16"},{"$f":"E6","v":"2022-08-01"},"2022-08-16","2022-09-01","2022-09-16","2022-10-01","2022-10-16","2022-11-01","2022-11-16","2022-12-01","2022-12-16","2023-01-01","2023-01-16","2023-02-01","2023-02-16","2023-03-01","2023-03-16","2023-04-01","2023-04-16","2023-05-01","2023-05-16","2023-06-01","2023-06-16","2023-07-01","2023-07-16"]
[null,null,"To",{"$f":"D7","v":"2022-07-31"},{"$f":"E7","v":"2022-08-15"},"2022-08-31","2022-09-15","2022-09-30","2022-10-15","2022-10-31","2022-11-15","2022-11-30","2022-12-15","2022-12-31","2023-01-15","2023-01-31","2023-02-15","2023-02-28","2023-03-15","2023-03-31","2023-04-15","2023-04-30","2023-05-15","2023-05-31","2023-06-15","2023-06-30","2023-07-15","2023-07-31"]
[null,"USCIS: GS-0930, GS-1801","All Decisions",{"$f":"'[1]Congressional Semi-Monthly Repo'!C51","v":{"v":2900,"d":"2,900"}},{"$f":"'[1]Congressional Semi-Monthly Repo'!D51","v":{"v":2709,"d":"2,709"}},{"$f":"'[1]Congressional Semi-Monthly Repo'!E51","v":{"v":2812,"d":"2,812"}},{"$f":"'[1]Congressional Semi-Monthly Repo'!F51","v":{"v":3273,"d":"3,273"}},{"$f":"'[1]Congressional Semi-Monthly Repo'!G51","v":{"v":3033,"d":"3,033"}},{"$f":"'[1]Congressional Semi-Monthly Repo'!H51","v":{"v":2296,"d":"2,296"}},{"$f":"'[1]Congressional Semi-Monthly Repo'!I51","v":{"v":3208,"d":"3,208"}},{"$f":"'[1]Congressional Semi-Monthly Repo'!J51","v":{"v":4540,"d":"4,540"}},{"$f":"'[1]Congressional Semi-Monthly Repo'!K51","v":{"v":3431,"d":"3,431"}},{"$f":"'[1]Congressional Semi-Monthly Repo'!L51","v":{"v":4620,"d":"4,620"}},{"$f":"'[1]Congressional Semi-Monthly Repo'!M51","v":{"v":3140,"d":"3,140"}},{"$f":"'[1]Congressional Semi-Monthly Repo'!N51","v":{"v":2541,"d":"2,541"}},{"$f":"'[1]Congressional Semi-Monthly Repo'!O51","v":{"v":4128,"d":"4,128"}},{"$f":"'[1]Congressional Semi-Monthly Repo'!P51","v":{"v":4721,"d":"4,721"}},{"$f":"'[1]Congressional Semi-Monthly Repo'!Q51","v":{"v":4349,"d":"4,349"}},{"$f":"'[1]Congressional Semi-Monthly Repo'!R51","v":{"v":5747,"d":"5,747"}},{"$f":"'[1]Congressional Semi-Monthly Repo'!S51","v":{"v":5335,"d":"5,335"}},{"$f":"'[1]Congressional Semi-Monthly Repo'!T51","v":{"v":4454,"d":"4,454"}},{"$f":"'[1]Congressional Semi-Monthly Repo'!U51","v":{"v":4656,"d":"4,656"}},{"$f":"'[1]Congressional Semi-Monthly Repo'!V51","v":{"v":4553,"d":"4,553"}},{"$f":"'[1]Congressional Semi-Monthly Repo'!W51","v":{"v":8107,"d":"8,107"}},{"$f":"'[1]Congressional Semi-Monthly Repo'!X51","v":{"v":9900,"d":"9,900"}},{"$f":"'[1]Congressional Semi-Monthly Repo'!Y51","v":{"v":8245,"d":"8,245"}},{"$f":"'[1]Congressional Semi-Monthly Repo'!Z51","v":{"v":8667,"d":"8,667"}},{"$f":"'[1]Congressional Semi-Monthly Repo'!AA51","v":{"v":9040,"d":"9,040"}}]
[null,null,"Fear Established_Persecution (Y)",{"$f":"'[1]Congressional Semi-Monthly Repo'!C52","v":{"v":1102,"d":"1,102"}},{"$f":"'[1]Congressional Semi-Monthly Repo'!D52","v":{"v":1086,"d":"1,086"}},{"$f":"'[1]Congressional Semi-Monthly Repo'!E52","v":{"v":1073,"d":"1,073"}},{"$f":"'[1]Congressional Semi-Monthly Repo'!F52","v":{"v":1143,"d":"1,143"}},{"$f":"'[1]Congressional Semi-Monthly Repo'!G52","v":{"v":1188,"d":"1,188"}},{"$f":"'[1]Congressional Semi-Monthly Repo'!H52","v":815},{"$f":"'[1]Congressional Semi-Monthly Repo'!I52","v":{"v":1257,"d":"1,257"}},{"$f":"'[1]Congressional Semi-Monthly Repo'!J52","v":{"v":2153,"d":"2,153"}},{"$f":"'[1]Congressional Semi-Monthly Repo'!K52","v":{"v":1698,"d":"1,698"}},{"$f":"'[1]Congressional Semi-Monthly Repo'!L52","v":{"v":2161,"d":"2,161"}},{"$f":"'[1]Congressional Semi-Monthly Repo'!M52","v":{"v":1630,"d":"1,630"}},{"$f":"'[1]Congressional Semi-Monthly Repo'!N52","v":{"v":1249,"d":"1,249"}},{"$f":"'[1]Congressional Semi-Monthly Repo'!O52","v":{"v":1712,"d":"1,712"}},{"$f":"'[1]Congressional Semi-Monthly Repo'!P52","v":{"v":1868,"d":"1,868"}},{"$f":"'[1]Congressional Semi-Monthly Repo'!Q52","v":{"v":1766,"d":"1,766"}},{"$f":"'[1]Congressional Semi-Monthly Repo'!R52","v":{"v":2450,"d":"2,450"}},{"$f":"'[1]Congressional Semi-Monthly Repo'!S52","v":{"v":2403,"d":"2,403"}},{"$f":"'[1]Congressional Semi-Monthly Repo'!T52","v":{"v":1971,"d":"1,971"}},{"$f":"'[1]Congressional Semi-Monthly Repo'!U52","v":{"v":1815,"d":"1,815"}},{"$f":"'[1]Congressional Semi-Monthly Repo'!V52","v":{"v":1428,"d":"1,428"}},{"$f":"'[1]Congressional Semi-Monthly Repo'!W52","v":{"v":2454,"d":"2,454"}},{"$f":"'[1]Congressional Semi-Monthly Repo'!X52","v":{"v":2835,"d":"2,835"}},{"$f":"'[1]Congressional Semi-Monthly Repo'!Y52","v":{"v":2620,"d":"2,620"}},{"$f":"'[1]Congressional Semi-Monthly Repo'!Z52","v":{"v":3095,"d":"3,095"}},{"$f":"'[1]Congressional Semi-Monthly Repo'!AA52","v":{"v":2937,"d":"2,937"}}]
[null,null,"Fear Established_Torture (Y)",{"$f":"'[1]Congressional Semi-Monthly Repo'!C53","v":517},{"$f":"'[1]Congressional Semi-Monthly Repo'!D53","v":385},{"$f":"'[1]Congressional Semi-Monthly Repo'!E53","v":402},{"$f":"'[1]Congressional Semi-Monthly Repo'!F53","v":559},{"$f":"'[1]Congressional Semi-Monthly Repo'!G53","v":458},{"$f":"'[1]Congressional Semi-Monthly Repo'!H53","v":405},{"$f":"'[1]Congressional Semi-Monthly Repo'!I53","v":548},{"$f":"'[1]Congressional Semi-Monthly Repo'!J53","v":896},{"$f":"'[1]Congressional Semi-Monthly Repo'!K53","v":718},{"$f":"'[1]Congressional Semi-Monthly Repo'!L53","v":{"v":1151,"d":"1,151"}},{"$f":"'[1]Congressional Semi-Monthly Repo'!M53","v":684},{"$f":"'[1]Congressional Semi-Monthly Repo'!N53","v":523},{"$f":"'[1]Congressional Semi-Monthly Repo'!O53","v":907},{"$f":"'[1]Congressional Semi-Monthly Repo'!P53","v":{"v":1235,"d":"1,235"}},{"$f":"'[1]Congressional Semi-Monthly Repo'!Q53","v":{"v":1304,"d":"1,304"}},{"$f":"'[1]Congressional Semi-Monthly Repo'!R53","v":{"v":1729,"d":"1,729"}},{"$f":"'[1]Congressional Semi-Monthly Repo'!S53","v":{"v":1691,"d":"1,691"}},{"$f":"'[1]Congressional Semi-Monthly Repo'!T53","v":{"v":1557,"d":"1,557"}},{"$f":"'[1]Congressional Semi-Monthly Repo'!U53","v":{"v":1425,"d":"1,425"}},{"$f":"'[1]Congressional Semi-Monthly Repo'!V53","v":{"v":1126,"d":"1,126"}},{"$f":"'[1]Congressional Semi-Monthly Repo'!W53","v":{"v":1777,"d":"1,777"}},{"$f":"'[1]Congressional Semi-Monthly Repo'!X53","v":{"v":1969,"d":"1,969"}},{"$f":"'[1]Congressional Semi-Monthly Repo'!Y53","v":{"v":1917,"d":"1,917"}},{"$f":"'[1]Congressional Semi-Monthly Repo'!Z53","v":{"v":2073,"d":"2,073"}},{"$f":"'[1]Congressional Semi-Monthly Repo'!AA53","v":{"v":2094,"d":"2,094"}}]
[null,null,"Fear Not Established (N)",{"$f":"'[1]Congressional Semi-Monthly Repo'!C54","v":{"v":1126,"d":"1,126"}},{"$f":"'[1]Congressional Semi-Monthly Repo'!D54","v":{"v":1135,"d":"1,135"}},{"$f":"'[1]Congressional Semi-Monthly Repo'!E54","v":{"v":1219,"d":"1,219"}},{"$f":"'[1]Congressional Semi-Monthly Repo'!F54","v":{"v":1482,"d":"1,482"}},{"$f":"'[1]Congressional Semi-Monthly Repo'!G54","v":{"v":1190,"d":"1,190"}},{"$f":"'[1]Congressional Semi-Monthly Repo'!H54","v":931},{"$f":"'[1]Congressional Semi-Monthly Repo'!I54","v":{"v":1211,"d":"1,211"}},{"$f":"'[1]Congressional Semi-Monthly Repo'!J54","v":{"v":1333,"d":"1,333"}},{"$f":"'[1]Congressional Semi-Monthly Repo'!K54","v":829},{"$f":"'[1]Congressional Semi-Monthly Repo'!L54","v":893},{"$f":"'[1]Congressional Semi-Monthly Repo'!M54","v":578},{"$f":"'[1]Congressional Semi-Monthly Repo'!N54","v":621},{"$f":"'[1]Congressional Semi-Monthly Repo'!O54","v":{"v":1289,"d":"1,289"}},{"$f":"'[1]Congressional Semi-Monthly Repo'!P54","v":{"v":1405,"d":"1,405"}},{"$f":"'[1]Congressional Semi-Monthly Repo'!Q54","v":{"v":1046,"d":"1,046"}},{"$f":"'[1]Congressional Semi-Monthly Repo'!R54","v":{"v":1202,"d":"1,202"}},{"$f":"'[1]Congressional Semi-Monthly Repo'!S54","v":{"v":1055,"d":"1,055"}},{"$f":"'[1]Congressional Semi-Monthly Repo'!T54","v":770},{"$f":"'[1]Congressional Semi-Monthly Repo'!U54","v":856},{"$f":"'[1]Congressional Semi-Monthly Repo'!V54","v":{"v":1187,"d":"1,187"}},{"$f":"'[1]Congressional Semi-Monthly Repo'!W54","v":{"v":3093,"d":"3,093"}},{"$f":"'[1]Congressional Semi-Monthly Repo'!X54","v":{"v":4097,"d":"4,097"}},{"$f":"'[1]Congressional Semi-Monthly Repo'!Y54","v":{"v":2885,"d":"2,885"}},{"$f":"'[1]Congressional Semi-Monthly Repo'!Z54","v":{"v":2754,"d":"2,754"}},{"$f":"'[1]Congressional Semi-Monthly Repo'!AA54","v":{"v":3153,"d":"3,153"}}]
[null,null,"Administratively Closed",{"$f":"'[1]Congressional Semi-Monthly Repo'!C55","v":155},{"$f":"'[1]Congressional Semi-Monthly Repo'!D55","v":103},{"$f":"'[1]Congressional Semi-Monthly Repo'!E55","v":118},{"$f":"'[1]Congressional Semi-Monthly Repo'!F55","v":89},{"$f":"'[1]Congressional Semi-Monthly Repo'!G55","v":197},{"$f":"'[1]Congressional Semi-Monthly Repo'!H55","v":145},{"$f":"'[1]Congressional Semi-Monthly Repo'!I55","v":192},{"$f":"'[1]Congressional Semi-Monthly Repo'!J55","v":158},{"$f":"'[1]Congressional Semi-Monthly Repo'!K55","v":186},{"$f":"'[1]Congressional Semi-Monthly Repo'!L55","v":415},{"$f":"'[1]Congressional Semi-Monthly Repo'!M55","v":248},{"$f":"'[1]Congressional Semi-Monthly Repo'!N55","v":148},{"$f":"'[1]Congressional Semi-Monthly Repo'!O55","v":220},{"$f":"'[1]Congressional Semi-Monthly Repo'!P55","v":213},{"$f":"'[1]Congressional Semi-Monthly Repo'!Q55","v":233},{"$f":"'[1]Congressional Semi-Monthly Repo'!R55","v":366},{"$f":"'[1]Congressional Semi-Monthly Repo'!S55","v":186},{"$f":"'[1]Congressional Semi-Monthly Repo'!T55","v":156},{"$f":"'[1]Congressional Semi-Monthly Repo'!U55","v":560},{"$f":"'[1]Congressional Semi-Monthly Repo'!V55","v":812},{"$f":"'[1]Congressional Semi-Monthly Repo'!W55","v":783},{"$f":"'[1]Congressional Semi-Monthly Repo'!X55","v":999},{"$f":"'[1]Congressional Semi-Monthly Repo'!Y55","v":823},{"$f":"'[1]Congressional Semi-Monthly Repo'!Z55","v":745},{"$f":"'[1]Congressional Semi-Monthly Repo'!AA55","v":856}]
[null,"USCBP: GS-1895, GS-1896","All Decisions",0,0,0,0,0,0,0,0,0,0,0,0,0,0,0,0,0,0,0,0,0,0,0,0,0]
[null,null,"Fear Established_Persecution (Y)",0,0,0,0,0,0,0,0,0,0,0,0,0,0,0,0,0,0,0,0,0,0,0,0,0]
[null,null,"Fear Established_Torture (Y)",0,0,0,0,0,0,0,0,0,0,0,0,0,0,0,0,0,0,0,0,0,0,0,0,0]
[null,null,"Fear Not Established (N)",0,0,0,0,0,0,0,0,0,0,0,0,0,0,0,0,0,0,0,0,0,0,0,0,0]
[null,null,"Administratively Closed","-","-","-","-","-","-","-","-","-","-","-","-","-","-","-","-","-","-","-","-","-","-","-","-","-"]
[null,"Reasonable Fear Cases Disaggregated by Adjudicator DHS Component and Occupational Series"]
[]
[null,"Adjudicator Component and Occupational Series","From",{"$f":"D6","v":"2022-07-16"},{"$f":"E6","v":"2022-08-01"},"2022-08-16","2022-09-01","2022-09-16","2022-10-01","2022-10-16","2022-11-01","2022-11-16","2022-12-01","2022-12-16","2023-01-01","2023-01-16","2023-02-01","2023-02-16","2023-03-01","2023-03-16","2023-04-01","2023-04-16","2023-05-01","2023-05-16","2023-06-01","2023-06-16","2023-07-01","2023-07-16"]
[null,null,"To",{"$f":"D7","v":"2022-07-31"},{"$f":"E7","v":"2022-08-15"},"2022-08-31","2022-09-15","2022-09-30","2022-10-15","2022-10-31","2022-11-15","2022-11-30","2022-12-15","2022-12-31","2023-01-15","2023-01-31","2023-02-15","2023-02-28","2023-03-15","2023-03-31","2023-04-15","2023-04-30","2023-05-15","2023-05-31","2023-06-15","2023-06-30","2023-07-15","2023-07-31"]
[null,"USCIS: GS-0930, GS-1801","All Decisions",{"$f":"'[1]Congressional Semi-Monthly Repo'!C60","v":253},{"$f":"'[1]Congressional Semi-Monthly Repo'!D60","v":289},{"$f":"'[1]Congressional Semi-Monthly Repo'!E60","v":298},{"$f":"'[1]Congressional Semi-Monthly Repo'!F60","v":293},{"$f":"'[1]Congressional Semi-Monthly Repo'!G60","v":397},{"$f":"'[1]Congressional Semi-Monthly Repo'!H60","v":305},{"$f":"'[1]Congressional Semi-Monthly Repo'!I60","v":339},{"$f":"'[1]Congressional Semi-Monthly Repo'!J60","v":365},{"$f":"'[1]Congressional Semi-Monthly Repo'!K60","v":323},{"$f":"'[1]Congressional Semi-Monthly Repo'!L60","v":398},{"$f":"'[1]Congressional Semi-Monthly Repo'!M60","v":293},{"$f":"'[1]Congressional Semi-Monthly Repo'!N60","v":287},{"$f":"'[1]Congressional Semi-Monthly Repo'!O60","v":425},{"$f":"'[1]Congressional Semi-Monthly Repo'!P60","v":361},{"$f":"'[1]Congressional Semi-Monthly Repo'!Q60","v":273},{"$f":"'[1]Congressional Semi-Monthly Repo'!R60","v":385},{"$f":"'[1]Congressional Semi-Monthly Repo'!S60","v":426},{"$f":"'[1]Congressional Semi-Monthly Repo'!T60","v":351},{"$f":"'[1]Congressional Semi-Monthly Repo'!U60","v":325},{"$f":"'[1]Congressional Semi-Monthly Repo'!V60","v":385},{"$f":"'[1]Congressional Semi-Monthly Repo'!W60","v":326},{"$f":"'[1]Congressional Semi-Monthly Repo'!X60","v":556},{"$f":"'[1]Congressional Semi-Monthly Repo'!Y60","v":617},{"$f":"'[1]Congressional Semi-Monthly Repo'!Z60","v":386},{"$f":"'[1]Congressional Semi-Monthly Repo'!AA60","v":528}]
[null,null,"Fear Established_Persecution (Y)",{"$f":"'[1]Congressional Semi-Monthly Repo'!C61","v":58},{"$f":"'[1]Congressional Semi-Monthly Repo'!D61","v":57},{"$f":"'[1]Congressional Semi-Monthly Repo'!E61","v":48},{"$f":"'[1]Congressional Semi-Monthly Repo'!F61","v":68},{"$f":"'[1]Congressional Semi-Monthly Repo'!G61","v":64},{"$f":"'[1]Congressional Semi-Monthly Repo'!H61","v":60},{"$f":"'[1]Congressional Semi-Monthly Repo'!I61","v":65},{"$f":"'[1]Congressional Semi-Monthly Repo'!J61","v":105},{"$f":"'[1]Congressional Semi-Monthly Repo'!K61","v":64},{"$f":"'[1]Congressional Semi-Monthly Repo'!L61","v":100},{"$f":"'[1]Congressional Semi-Monthly Repo'!M61","v":57},{"$f":"'[1]Congressional Semi-Monthly Repo'!N61","v":71},{"$f":"'[1]Congressional Semi-Monthly Repo'!O61","v":91},{"$f":"'[1]Congressional Semi-Monthly Repo'!P61","v":57},{"$f":"'[1]Congressional Semi-Monthly Repo'!Q61","v":37},{"$f":"'[1]Congressional Semi-Monthly Repo'!R61","v":65},{"$f":"'[1]Congressional Semi-Monthly Repo'!S61","v":70},{"$f":"'[1]Congressional Semi-Monthly Repo'!T61","v":63},{"$f":"'[1]Congressional Semi-Monthly Repo'!U61","v":54},{"$f":"'[1]Congressional Semi-Monthly Repo'!V61","v":81},{"$f":"'[1]Congressional Semi-Monthly Repo'!W61","v":49},{"$f":"'[1]Congressional Semi-Monthly Repo'!X61","v":53},{"$f":"'[1]Congressional Semi-Monthly Repo'!Y61","v":81},{"$f":"'[1]Congressional Semi-Monthly Repo'!Z61","v":46},{"$f":"'[1]Congressional Semi-Monthly Repo'!AA61","v":60}]
[null,null,"Fear Established_Torture (Y)",{"$f":"'[1]Congressional Semi-Monthly Repo'!C62","v":41},{"$f":"'[1]Congressional Semi-Monthly Repo'!D62","v":47},{"$f":"'[1]Congressional Semi-Monthly Repo'!E62","v":31},{"$f":"'[1]Congressional Semi-Monthly Repo'!F62","v":46},{"$f":"'[1]Congressional Semi-Monthly Repo'!G62","v":58},{"$f":"'[1]Congressional Semi-Monthly Repo'!H62","v":47},{"$f":"'[1]Congressional Semi-Monthly Repo'!I62","v":42},{"$f":"'[1]Congressional Semi-Monthly Repo'!J62","v":48},{"$f":"'[1]Congressional Semi-Monthly Repo'!K62","v":47},{"$f":"'[1]Congressional Semi-Monthly Repo'!L62","v":62},{"$f":"'[1]Congressional Semi-Monthly Repo'!M62","v":43},{"$f":"'[1]Congressional Semi-Monthly Repo'!N62","v":38},{"$f":"'[1]Congressional Semi-Monthly Repo'!O62","v":83},{"$f":"'[1]Congressional Semi-Monthly Repo'!P62","v":68},{"$f":"'[1]Congressional Semi-Monthly Repo'!Q62","v":62},{"$f":"'[1]Congressional Semi-Monthly Repo'!R62","v":67},{"$f":"'[1]Congressional Semi-Monthly Repo'!S62","v":67},{"$f":"'[1]Congressional Semi-Monthly Repo'!T62","v":52},{"$f":"'[1]Congressional Semi-Monthly Repo'!U62","v":56},{"$f":"'[1]Congressional Semi-Monthly Repo'!V62","v":65},{"$f":"'[1]Congressional Semi-Monthly Repo'!W62","v":51},{"$f":"'[1]Congressional Semi-Monthly Repo'!X62","v":89},{"$f":"'[1]Congressional Semi-Monthly Repo'!Y62","v":77},{"$f":"'[1]Congressional Semi-Monthly Repo'!Z62","v":70},{"$f":"'[1]Congressional Semi-Monthly Repo'!AA62","v":98}]
[null,null,"Fear Not Established (N)",{"$f":"'[1]Congressional Semi-Monthly Repo'!C63","v":125},{"$f":"'[1]Congressional Semi-Monthly Repo'!D63","v":137},{"$f":"'[1]Congressional Semi-Monthly Repo'!E63","v":157},{"$f":"'[1]Congressional Semi-Monthly Repo'!F63","v":132},{"$f":"'[1]Congressional Semi-Monthly Repo'!G63","v":201},{"$f":"'[1]Congressional Semi-Monthly Repo'!H63","v":146},{"$f":"'[1]Congressional Semi-Monthly Repo'!I63","v":149},{"$f":"'[1]Congressional Semi-Monthly Repo'!J63","v":157},{"$f":"'[1]Congressional Semi-Monthly Repo'!K63","v":137},{"$f":"'[1]Congressional Semi-Monthly Repo'!L63","v":174},{"$f":"'[1]Congressional Semi-Monthly Repo'!M63","v":135},{"$f":"'[1]Congressional Semi-Monthly Repo'!N63","v":138},{"$f":"'[1]Congressional Semi-Monthly Repo'!O63","v":183},{"$f":"'[1]Congressional Semi-Monthly Repo'!P63","v":173},{"$f":"'[1]Congressional Semi-Monthly Repo'!Q63","v":128},{"$f":"'[1]Congressional Semi-Monthly Repo'!R63","v":166},{"$f":"'[1]Congressional Semi-Monthly Repo'!S63","v":177},{"$f":"'[1]Congressional Semi-Monthly Repo'!T63","v":164},{"$f":"'[1]Congressional Semi-Monthly Repo'!U63","v":150},{"$f":"'[1]Congressional Semi-Monthly Repo'!V63","v":169},{"$f":"'[1]Congressional Semi-Monthly Repo'!W63","v":164},{"$f":"'[1]Congressional Semi-Monthly Repo'!X63","v":275},{"$f":"'[1]Congressional Semi-Monthly Repo'!Y63","v":340},{"$f":"'[1]Congressional Semi-Monthly Repo'!Z63","v":197},{"$f":"'[1]Congressional Semi-Monthly Repo'!AA63","v":266}]
[null,null,"Administratively Closed",{"$f":"'[1]Congressional Semi-Monthly Repo'!C64","v":37},{"$f":"'[1]Congressional Semi-Monthly Repo'!D64","v":54},{"$f":"'[1]Congressional Semi-Monthly Repo'!E64","v":67},{"$f":"'[1]Congressional Semi-Monthly Repo'!F64","v":56},{"$f":"'[1]Congressional Semi-Monthly Repo'!G64","v":83},{"$f":"'[1]Congressional Semi-Monthly Repo'!H64","v":62},{"$f":"'[1]Congressional Semi-Monthly Repo'!I64","v":88},{"$f":"'[1]Congressional Semi-Monthly Repo'!J64","v":68},{"$f":"'[1]Congressional Semi-Monthly Repo'!K64","v":84},{"$f":"'[1]Congressional Semi-Monthly Repo'!L64","v":76},{"$f":"'[1]Congressional Semi-Monthly Repo'!M64","v":66},{"$f":"'[1]Congressional Semi-Monthly Repo'!N64","v":51},{"$f":"'[1]Congressional Semi-Monthly Repo'!O64","v":84},{"$f":"'[1]Congressional Semi-Monthly Repo'!P64","v":75},{"$f":"'[1]Congressional Semi-Monthly Repo'!Q64","v":56},{"$f":"'[1]Congressional Semi-Monthly Repo'!R64","v":94},{"$f":"'[1]Congressional Semi-Monthly Repo'!S64","v":120},{"$f":"'[1]Congressional Semi-Monthly Repo'!T64","v":83},{"$f":"'[1]Congressional Semi-Monthly Repo'!U64","v":76},{"$f":"'[1]Congressional Semi-Monthly Repo'!V64","v":78},{"$f":"'[1]Congressional Semi-Monthly Repo'!W64","v":72},{"$f":"'[1]Congressional Semi-Monthly Repo'!X64","v":148},{"$f":"'[1]Congressional Semi-Monthly Repo'!Y64","v":134},{"$f":"'[1]Congressional Semi-Monthly Repo'!Z64","v":87},{"$f":"'[1]Congressional Semi-Monthly Repo'!AA64","v":119}]
[null,"USCBP: GS-1895, GS-18964","All Decisions",0,0,0,0,0,0,0,0,0,0,0,0,0,0,0,0,0,0,0,0,0,0,0,0,0]
[null,null,"Fear Established_Persecution (Y)",0,0,0,0,0,0,0,0,0,0,0,0,0,0,0,0,0,0,0,0,0,0,0,0,0]
[null,null,"Fear Established_Torture (Y)",0,0,0,0,0,0,0,0,0,0,0,0,0,0,0,0,0,0,0,0,0,0,0,0,0]
[null,null,"Fear Not Established (N)",0,0,0,0,0,0,0,0,0,0,0,0,0,0,0,0,0,0,0,0,0,0,0,0,0]
[null,null,"Administratively Closed","-","-","-","-","-","-","-","-","-","-","-","-","-","-","-","-","-","-","-","-","-","-","-","-","-"]
[]
[null,"Table Key"]
[null,"All Refugee Officers, occupational series 1801, CBP Officers, occupational series 1895, and Border Patrol Agents, occupational series 1896, who conduct credible fear and reasonable fear screening determinations, have been trained in accordance with the regulatory and statutory requirements for Asylum Officers, occupational series 0930.  Additionally, all credible fear and reasonable fear screening determinations are reviewed by either a Supervisory Asylum Officer, occupational series 0930 or one of a small number of Supervisory Refugee Officers, occupational series 1801, serving in the capacity of Supervisory Asylum Officers. The Supervisory Refugee Officers are either former asylum officers or have been trained and have experience consistent with the regulatory and statutory requirements to conduct reviews of these cases."]
[null,"- Represents 0"]
[]
[null,"For more information on our reports, visit the Understanding Our Data page."]
[]
[null,"Footnotes"]
[null,"1 Case receipts are grouped by date of receipt, decisions are grouped by date of completion"]
[null,"2 Case receipts and completions subject to the Third Country Transit Bar - Interim Final Rule for June 2020 do not include any cases affected by the vacatur of the Third-Country Transit Bar on June 30, 2020 in CAIR v. Trump, 19-cv-02117, June 30, 2020 (D.D.C)"]
[null,"3 Only single adults have been screened at the Family Residential Centers."]
[null,"4 USCBP adjudicators have not been assigned any reasonable fear cases to date"]